BEGIN:VCALENDAR
VERSION:2.0
PRODID:-//MinicooperClub - ECPv6.15.20//NONSGML v1.0//EN
CALSCALE:GREGORIAN
METHOD:PUBLISH
X-ORIGINAL-URL:https://minicooperclub.nl
X-WR-CALDESC:Evenementen voor MinicooperClub
REFRESH-INTERVAL;VALUE=DURATION:PT1H
X-Robots-Tag:noindex
X-PUBLISHED-TTL:PT1H
BEGIN:VTIMEZONE
TZID:UTC
BEGIN:STANDARD
TZOFFSETFROM:+0000
TZOFFSETTO:+0000
TZNAME:UTC
DTSTART:20250101T000000
END:STANDARD
END:VTIMEZONE
BEGIN:VEVENT
DTSTART;TZID=UTC:20260412T110000
DTEND;TZID=UTC:20260412T170000
DTSTAMP:20260420T103912
CREATED:20260109T122956Z
LAST-MODIFIED:20260224T125146Z
UID:14293-1775991600-1776013200@minicooperclub.nl
SUMMARY:Bollentour Noord Holland
DESCRIPTION:Een prachtige landelijke route van bijna 182 km die start nabij hotel Golfzang in Egmond aan Zee aan de boulevard en eindigt bij het Damhotel in Edam. Via prachtige landelijke- en dijkweggetjes met uitzicht op de Hollandse molens en bollenvelden\, leidt de route door het pittoreske Noord Holland met de mooie toeristische plaatsen als Bergen aan Zee\, Schagen\, Medemblik en Edam. \n  \nTicketlink:https://minicooperclub.nl/product/bollentour-noord-holland-zondag-12-april-mini-cooper-club-nederland/
URL:https://minicooperclub.nl/event/bollentour-noord-holland/
LOCATION:Damhotel Edam
END:VEVENT
END:VCALENDAR