BEGIN:VCALENDAR
VERSION:2.0
PRODID:-//MinicooperClub - ECPv6.15.20//NONSGML v1.0//EN
CALSCALE:GREGORIAN
METHOD:PUBLISH
X-WR-CALNAME:MinicooperClub
X-ORIGINAL-URL:https://minicooperclub.nl
X-WR-CALDESC:Evenementen voor MinicooperClub
REFRESH-INTERVAL;VALUE=DURATION:PT1H
X-Robots-Tag:noindex
X-PUBLISHED-TTL:PT1H
BEGIN:VTIMEZONE
TZID:UTC
BEGIN:STANDARD
TZOFFSETFROM:+0000
TZOFFSETTO:+0000
TZNAME:UTC
DTSTART:20250101T000000
END:STANDARD
END:VTIMEZONE
BEGIN:VEVENT
DTSTART;TZID=UTC:20260315T110000
DTEND;TZID=UTC:20260315T150000
DTSTAMP:20260423T074255
CREATED:20251017T110738Z
LAST-MODIFIED:20260109T122819Z
UID:13840-1773572400-1773586800@minicooperclub.nl
SUMMARY:Meeting Friesland
DESCRIPTION:Samen me de BMW club organiseren wij een BMW x MINI meeting in Joure\nLink naar evenement en meer info: https://www.facebook.com/events/1160359416034286/?acontext=%7B%22event_action_history%22%3A[%7B%22surface%22%3A%22group%22%7D]%7D
URL:https://minicooperclub.nl/event/thialf-meeting/
LOCATION:De haven Joure\, Grienedyk\, Joure
END:VEVENT
END:VCALENDAR