BEGIN:VCALENDAR
VERSION:2.0
PRODID:-//MinicooperClub - ECPv6.15.20//NONSGML v1.0//EN
CALSCALE:GREGORIAN
METHOD:PUBLISH
X-ORIGINAL-URL:https://minicooperclub.nl
X-WR-CALDESC:Evenementen voor MinicooperClub
REFRESH-INTERVAL;VALUE=DURATION:PT1H
X-Robots-Tag:noindex
X-PUBLISHED-TTL:PT1H
BEGIN:VTIMEZONE
TZID:UTC
BEGIN:STANDARD
TZOFFSETFROM:+0000
TZOFFSETTO:+0000
TZNAME:UTC
DTSTART:20250101T000000
END:STANDARD
END:VTIMEZONE
BEGIN:VEVENT
DTSTART;TZID=UTC:20260222T110000
DTEND;TZID=UTC:20260222T170000
DTSTAMP:20260424T113332
CREATED:20251017T110401Z
LAST-MODIFIED:20251017T110401Z
UID:13834-1771758000-1771779600@minicooperclub.nl
SUMMARY:Meet up in Emmen | MINI Cooper Club Nederland
DESCRIPTION:Wat we op deze dag gaan doen is nog een verrassing! Meer informatie vind je in het Facebook evenement:\nhttps://www.facebook.com/events/1332166171685737/?acontext=%7B%22event_action_history%22%3A[%7B%22surface%22%3A%22group%22%7D]%7D
URL:https://minicooperclub.nl/event/meet-up-in-emmen-mini-cooper-club-nederland/
LOCATION:Emmen
END:VEVENT
END:VCALENDAR